BEGIN:VCALENDAR
VERSION:2.0
PRODID:-//Bartek Dabrowski - ECPv6.5.0//NONSGML v1.0//EN
CALSCALE:GREGORIAN
METHOD:PUBLISH
X-WR-CALNAME:Bartek Dabrowski
X-ORIGINAL-URL:https://www.bartekdabrowski.co.uk
X-WR-CALDESC:Events for Bartek Dabrowski
REFRESH-INTERVAL;VALUE=DURATION:PT1H
X-Robots-Tag:noindex
X-PUBLISHED-TTL:PT1H
BEGIN:VTIMEZONE
TZID:UTC
BEGIN:STANDARD
TZOFFSETFROM:+0000
TZOFFSETTO:+0000
TZNAME:UTC
DTSTART:20260101T000000
END:STANDARD
END:VTIMEZONE
BEGIN:VEVENT
DTSTART;TZID=UTC:20260425T200000
DTEND;TZID=UTC:20260425T220000
DTSTAMP:20260425T112040
CREATED:20260115T151523Z
LAST-MODIFIED:20260115T151552Z
UID:7572-1777147200-1777154400@www.bartekdabrowski.co.uk
SUMMARY:Bartek Dabrowski @ ROOM2 GLASGOW
DESCRIPTION:Catch Bartek Dabrowski spinning live vibes at ROOM2GLASGOW – a night you don’t wanna miss!\n\n\n\nExperience an intimate evening of immersive live music with Bartek Dabrowski at ROOM2 GLASGOW. Blending expressive guitar work with live rhythms\, textures\, and looping\, Bartek creates a rich\, cinematic soundscape — all performed solo and entirely live. \nThis special in-person show is designed for listeners who appreciate atmosphere\, emotion\, and musicianship. Expect warm melodies\, dynamic builds\, and moments that pull you in and let you breathe. \nBring your friends\, enjoy the beautiful surroundings\, and settle in for a night of great vibes\, deep sound\, and memorable music. \n🎶 One-man band • Fully live • Intimate setting\n📍 ROOM2 GLASGOW\n🎟️ Limited capacity — early booking recommended \nDon’t miss this unique live experience.
URL:https://www.bartekdabrowski.co.uk/tour/bartek-dabrowski-room2-glasgow/
LOCATION:Room 2\, 69 Nelson Mandela place\, Glasgow\, G21qy\, United Kingdom
ORGANIZER;CN="Bartek Dabrowski":MAILTO:info@bartekdabrowski.co.uk
END:VEVENT
BEGIN:VEVENT
DTSTART;TZID=UTC:20260426T200000
DTEND;TZID=UTC:20260426T220000
DTSTAMP:20260425T112040
CREATED:20260115T145505Z
LAST-MODIFIED:20260115T145956Z
UID:7562-1777233600-1777240800@www.bartekdabrowski.co.uk
SUMMARY:Bartek Dabrowski @ The Voodoo Rooms
DESCRIPTION:Experience an intimate evening of immersive live music with Bartek Dabrowski at The Voodoo Rooms. Blending expressive guitar work with live rhythms\, textures\, and looping\, Bartek creates a rich\, cinematic soundscape — all performed solo and entirely live. \nThis special in-person show is designed for listeners who appreciate atmosphere\, emotion\, and musicianship. Expect warm melodies\, dynamic builds\, and moments that pull you in and let you breathe. \nBring your friends\, enjoy the beautiful surroundings\, and settle in for a night of great vibes\, deep sound\, and memorable music. \n🎶 One-man band • Fully live • Intimate setting\n📍 The Voodoo Rooms\n🎟️ Limited capacity — early booking recommended \nDon’t miss this unique live experience.
URL:https://www.bartekdabrowski.co.uk/tour/bartek-dabrowski-the-voodoo-rooms/
LOCATION:The Voo Doo Rooms\, 19a West Register Street\, Edinburgh\, Edinburgh\, EH2 2AA\, United Kingdom
ATTACH;FMTTYPE=image/jpeg:https://www.bartekdabrowski.co.uk/wp-content/uploads/2024/12/DSC00422-Enhanced-NR-scaled.jpg
ORGANIZER;CN="Bartek Dabrowski":MAILTO:info@bartekdabrowski.co.uk
END:VEVENT
END:VCALENDAR